Workbook

Sheet Einheiten
A1: Einheit | B1: Notes

Sheet Buchungen
A1: Einheit | B1: Gast | C1: Anreise | D1: Abreise | E1: Kanal | F1: Bruttoumsatz | G1: Provision % | H1: Anzahlung | I1: Nächte | J1: Provision € | K1: Netto nach Provision | L1: Offener Betrag | M1: Überschneidung | N1: Nächte im Monat | O1: Umsatz im Monat | P1: Provision im Monat
I2: =IF(OR(C2="",D2=""),"",MAX(0,D2-C2)) | J2: =IF(OR(F2="",G2=""),"",F2*G2) | K2: =IF(F2="","",F2-IF(J2="",0,J2)) | L2: =IF(F2="","",F2-IF(H2="",0,H2)) | M2: =IF(OR(A2="",C2="",D2=""),"",IF(SUMPRODUCT(($A$2:$A$201=A2)*($C$2:$C$201<D2)*($D$2:$D$201>C2))>1,"ÜBERSCHNEIDUNG","")) | N2: =IF(OR(C2="",D2=""),0,MAX(0,MIN(D2,DATE(YEAR('Planung'!$B$1),MONTH('Planung'!$B$1)+1,1))-MAX(C2,'Planung'!$B$1))) | O2: =IF(OR(I2="",I2=0,F2=""),0,F2*N2/I2) | P2: =IF(OR(I2="",I2=0,J2=""),0,J2*N2/I2)
I3: =IF(OR(C3="",D3=""),"",MAX(0,D3-C3)) | J3: =IF(OR(F3="",G3=""),"",F3*G3) | K3: =IF(F3="","",F3-IF(J3="",0,J3)) | L3: =IF(F3="","",F3-IF(H3="",0,H3)) | M3: =IF(OR(A3="",C3="",D3=""),"",IF(SUMPRODUCT(($A$2:$A$201=A3)*($C$2:$C$201<D3)*($D$2:$D$201>C3))>1,"ÜBERSCHNEIDUNG","")) | N3: =IF(OR(C3="",D3=""),0,MAX(0,MIN(D3,DATE(YEAR('Planung'!$B$1),MONTH('Planung'!$B$1)+1,1))-MAX(C3,'Planung'!$B$1))) | O3: =IF(OR(I3="",I3=0,F3=""),0,F3*N3/I3) | P3: =IF(OR(I3="",I3=0,J3=""),0,J3*N3/I3)
I4: =IF(OR(C4="",D4=""),"",MAX(0,D4-C4)) | J4: =IF(OR(F4="",G4=""),"",F4*G4) | K4: =IF(F4="","",F4-IF(J4="",0,J4)) | L4: =IF(F4="","",F4-IF(H4="",0,H4)) | M4: =IF(OR(A4="",C4="",D4=""),"",IF(SUMPRODUCT(($A$2:$A$201=A4)*($C$2:$C$201<D4)*($D$2:$D$201>C4))>1,"ÜBERSCHNEIDUNG","")) | N4: =IF(OR(C4="",D4=""),0,MAX(0,MIN(D4,DATE(YEAR('Planung'!$B$1),MONTH('Planung'!$B$1)+1,1))-MAX(C4,'Planung'!$B$1))) | O4: =IF(OR(I4="",I4=0,F4=""),0,F4*N4/I4) | P4: =IF(OR(I4="",I4=0,J4=""),0,J4*N4/I4)
I5: =IF(OR(C5="",D5=""),"",MAX(0,D5-C5)) | J5: =IF(OR(F5="",G5=""),"",F5*G5) | K5: =IF(F5="","",F5-IF(J5="",0,J5)) | L5: =IF(F5="","",F5-IF(H5="",0,H5)) | M5: =IF(OR(A5="",C5="",D5=""),"",IF(SUMPRODUCT(($A$2:$A$201=A5)*($C$2:$C$201<D5)*($D$2:$D$201>C5))>1,"ÜBERSCHNEIDUNG","")) | N5: =IF(OR(C5="",D5=""),0,MAX(0,MIN(D5,DATE(YEAR('Planung'!$B$1),MONTH('Planung'!$B$1)+1,1))-MAX(C5,'Planung'!$B$1))) | O5: =IF(OR(I5="",I5=0,F5=""),0,F5*N5/I5) | P5: =IF(OR(I5="",I5=0,J5=""),0,J5*N5/I5)
I6: =IF(OR(C6="",D6=""),"",MAX(0,D6-C6)) | J6: =IF(OR(F6="",G6=""),"",F6*G6) | K6: =IF(F6="","",F6-IF(J6="",0,J6)) | L6: =IF(F6="","",F6-IF(H6="",0,H6)) | M6: =IF(OR(A6="",C6="",D6=""),"",IF(SUMPRODUCT(($A$2:$A$201=A6)*($C$2:$C$201<D6)*($D$2:$D$201>C6))>1,"ÜBERSCHNEIDUNG","")) | N6: =IF(OR(C6="",D6=""),0,MAX(0,MIN(D6,DATE(YEAR('Planung'!$B$1),MONTH('Planung'!$B$1)+1,1))-MAX(C6,'Planung'!$B$1))) | O6: =IF(OR(I6="",I6=0,F6=""),0,F6*N6/I6) | P6: =IF(OR(I6="",I6=0,J6=""),0,J6*N6/I6)
I7: =IF(OR(C7="",D7=""),"",MAX(0,D7-C7)) | J7: =IF(OR(F7="",G7=""),"",F7*G7) | K7: =IF(F7="","",F7-IF(J7="",0,J7)) | L7: =IF(F7="","",F7-IF(H7="",0,H7)) | M7: =IF(OR(A7="",C7="",D7=""),"",IF(SUMPRODUCT(($A$2:$A$201=A7)*($C$2:$C$201<D7)*($D$2:$D$201>C7))>1,"ÜBERSCHNEIDUNG","")) | N7: =IF(OR(C7="",D7=""),0,MAX(0,MIN(D7,DATE(YEAR('Planung'!$B$1),MONTH('Planung'!$B$1)+1,1))-MAX(C7,'Planung'!$B$1))) | O7: =IF(OR(I7="",I7=0,F7=""),0,F7*N7/I7) | P7: =IF(OR(I7="",I7=0,J7=""),0,J7*N7/I7)
I8: =IF(OR(C8="",D8=""),"",MAX(0,D8-C8)) | J8: =IF(OR(F8="",G8=""),"",F8*G8) | K8: =IF(F8="","",F8-IF(J8="",0,J8)) | L8: =IF(F8="","",F8-IF(H8="",0,H8)) | M8: =IF(OR(A8="",C8="",D8=""),"",IF(SUMPRODUCT(($A$2:$A$201=A8)*($C$2:$C$201<D8)*($D$2:$D$201>C8))>1,"ÜBERSCHNEIDUNG","")) | N8: =IF(OR(C8="",D8=""),0,MAX(0,MIN(D8,DATE(YEAR('Planung'!$B$1),MONTH('Planung'!$B$1)+1,1))-MAX(C8,'Planung'!$B$1))) | O8: =IF(OR(I8="",I8=0,F8=""),0,F8*N8/I8) | P8: =IF(OR(I8="",I8=0,J8=""),0,J8*N8/I8)
I9: =IF(OR(C9="",D9=""),"",MAX(0,D9-C9)) | J9: =IF(OR(F9="",G9=""),"",F9*G9) | K9: =IF(F9="","",F9-IF(J9="",0,J9)) | L9: =IF(F9="","",F9-IF(H9="",0,H9)) | M9: =IF(OR(A9="",C9="",D9=""),"",IF(SUMPRODUCT(($A$2:$A$201=A9)*($C$2:$C$201<D9)*($D$2:$D$201>C9))>1,"ÜBERSCHNEIDUNG","")) | N9: =IF(OR(C9="",D9=""),0,MAX(0,MIN(D9,DATE(YEAR('Planung'!$B$1),MONTH('Planung'!$B$1)+1,1))-MAX(C9,'Planung'!$B$1))) | O9: =IF(OR(I9="",I9=0,F9=""),0,F9*N9/I9) | P9: =IF(OR(I9="",I9=0,J9=""),0,J9*N9/I9)
I10: =IF(OR(C10="",D10=""),"",MAX(0,D10-C10)) | J10: =IF(OR(F10="",G10=""),"",F10*G10) | K10: =IF(F10="","",F10-IF(J10="",0,J10)) | L10: =IF(F10="","",F10-IF(H10="",0,H10)) | M10: =IF(OR(A10="",C10="",D10=""),"",IF(SUMPRODUCT(($A$2:$A$201=A10)*($C$2:$C$201<D10)*($D$2:$D$201>C10))>1,"ÜBERSCHNEIDUNG","")) | N10: =IF(OR(C10="",D10=""),0,MAX(0,MIN(D10,DATE(YEAR('Planung'!$B$1),MONTH('Planung'!$B$1)+1,1))-MAX(C10,'Planung'!$B$1))) | O10: =IF(OR(I10="",I10=0,F10=""),0,F10*N10/I10) | P10: =IF(OR(I10="",I10=0,J10=""),0,J10*N10/I10)
I11: =IF(OR(C11="",D11=""),"",MAX(0,D11-C11)) | J11: =IF(OR(F11="",G11=""),"",F11*G11) | K11: =IF(F11="","",F11-IF(J11="",0,J11)) | L11: =IF(F11="","",F11-IF(H11="",0,H11)) | M11: =IF(OR(A11="",C11="",D11=""),"",IF(SUMPRODUCT(($A$2:$A$201=A11)*($C$2:$C$201<D11)*($D$2:$D$201>C11))>1,"ÜBERSCHNEIDUNG","")) | N11: =IF(OR(C11="",D11=""),0,MAX(0,MIN(D11,DATE(YEAR('Planung'!$B$1),MONTH('Planung'!$B$1)+1,1))-MAX(C11,'Planung'!$B$1))) | O11: =IF(OR(I11="",I11=0,F11=""),0,F11*N11/I11) | P11: =IF(OR(I11="",I11=0,J11=""),0,J11*N11/I11)
I12: =IF(OR(C12="",D12=""),"",MAX(0,D12-C12)) | J12: =IF(OR(F12="",G12=""),"",F12*G12) | K12: =IF(F12="","",F12-IF(J12="",0,J12)) | L12: =IF(F12="","",F12-IF(H12="",0,H12)) | M12: =IF(OR(A12="",C12="",D12=""),"",IF(SUMPRODUCT(($A$2:$A$201=A12)*($C$2:$C$201<D12)*($D$2:$D$201>C12))>1,"ÜBERSCHNEIDUNG","")) | N12: =IF(OR(C12="",D12=""),0,MAX(0,MIN(D12,DATE(YEAR('Planung'!$B$1),MONTH('Planung'!$B$1)+1,1))-MAX(C12,'Planung'!$B$1))) | O12: =IF(OR(I12="",I12=0,F12=""),0,F12*N12/I12) | P12: =IF(OR(I12="",I12=0,J12=""),0,J12*N12/I12)
I13: =IF(OR(C13="",D13=""),"",MAX(0,D13-C13)) | J13: =IF(OR(F13="",G13=""),"",F13*G13) | K13: =IF(F13="","",F13-IF(J13="",0,J13)) | L13: =IF(F13="","",F13-IF(H13="",0,H13)) | M13: =IF(OR(A13="",C13="",D13=""),"",IF(SUMPRODUCT(($A$2:$A$201=A13)*($C$2:$C$201<D13)*($D$2:$D$201>C13))>1,"ÜBERSCHNEIDUNG","")) | N13: =IF(OR(C13="",D13=""),0,MAX(0,MIN(D13,DATE(YEAR('Planung'!$B$1),MONTH('Planung'!$B$1)+1,1))-MAX(C13,'Planung'!$B$1))) | O13: =IF(OR(I13="",I13=0,F13=""),0,F13*N13/I13) | P13: =IF(OR(I13="",I13=0,J13=""),0,J13*N13/I13)
... I201: =IF(OR(C201="",D201=""),"",MAX(0,D201-C201)) | J201: =IF(OR(F201="",G201=""),"",F201*G201) | K201: =IF(F201="","",F201-IF(J201="",0,J201)) | L201: =IF(F201="","",F201-IF(H201="",0,H201)) | M201: =IF(OR(A201="",C201="",D201=""),"",IF(SUMPRODUCT(($A$2:$A$201=A201)*($C$2:$C$201<D201)*($D$2:$D$201>C201))>1,"ÜBERSCHNEIDUNG","")) | N201: =IF(OR(C201="",D201=""),0,MAX(0,MIN(D201,DATE(YEAR('Planung'!$B$1),MONTH('Planung'!$B$1)+1,1))-MAX(C201,'Planung'!$B$1))) | O201: =IF(OR(I201="",I201=0,F201=""),0,F201*N201/I201) | P201: =IF(OR(I201="",I201=0,J201=""),0,J201*N201/I201)

Sheet Planung
A1: Gewählter Monat | B1: 46266
A3: Einheit | B3: =IF(MONTH(DATE(YEAR($B$1),MONTH($B$1),1))=MONTH($B$1),DATE(YEAR($B$1),MONTH($B$1),1),"") | C3: =IF(MONTH(DATE(YEAR($B$1),MONTH($B$1),2))=MONTH($B$1),DATE(YEAR($B$1),MONTH($B$1),2),"") | D3: =IF(MONTH(DATE(YEAR($B$1),MONTH($B$1),3))=MONTH($B$1),DATE(YEAR($B$1),MONTH($B$1),3),"") | E3: =IF(MONTH(DATE(YEAR($B$1),MONTH($B$1),4))=MONTH($B$1),DATE(YEAR($B$1),MONTH($B$1),4),"") | F3: =IF(MONTH(DATE(YEAR($B$1),MONTH($B$1),5))=MONTH($B$1),DATE(YEAR($B$1),MONTH($B$1),5),"") | G3: =IF(MONTH(DATE(YEAR($B$1),MONTH($B$1),6))=MONTH($B$1),DATE(YEAR($B$1),MONTH($B$1),6),"") | H3: =IF(MONTH(DATE(YEAR($B$1),MONTH($B$1),7))=MONTH($B$1),DATE(YEAR($B$1),MONTH($B$1),7),"") | I3: =IF(MONTH(DATE(YEAR($B$1),MONTH($B$1),8))=MONTH($B$1),DATE(YEAR($B$1),MONTH($B$1),8),"") | J3: =IF(MONTH(DATE(YEAR($B$1),MONTH($B$1),9))=MONTH($B$1),DATE(YEAR($B$1),MONTH($B$1),9),"") | K3: =IF(MONTH(DATE(YEAR($B$1),MONTH($B$1),10))=MONTH($B$1),DATE(YEAR($B$1),MONTH($B$1),10),"") | L3: =IF(MONTH(DATE(YEAR($B$1),MONTH($B$1),11))=MONTH($B$1),DATE(YEAR($B$1),MONTH($B$1),11),"") | M3: =IF(MONTH(DATE(YEAR($B$1),MONTH($B$1),12))=MONTH($B$1),DATE(YEAR($B$1),MONTH($B$1),12),"") | N3: =IF(MONTH(DATE(YEAR($B$1),MONTH($B$1),13))=MONTH($B$1),DATE(YEAR($B$1),MONTH($B$1),13),"") | O3: =IF(MONTH(DATE(YEAR($B$1),MONTH($B$1),14))=MONTH($B$1),DATE(YEAR($B$1),MONTH($B$1),14),"") | P3: =IF(MONTH(DATE(YEAR($B$1),MONTH($B$1),15))=MONTH($B$1),DATE(YEAR($B$1),MONTH($B$1),15),"") | Q3: =IF(MONTH(DATE(YEAR($B$1),MONTH($B$1),16))=MONTH($B$1),DATE(YEAR($B$1),MONTH($B$1),16),"") | R3: =IF(MONTH(DATE(YEAR($B$1),MONTH($B$1),17))=MONTH($B$1),DATE(YEAR($B$1),MONTH($B$1),17),"") | S3: =IF(MONTH(DATE(YEAR($B$1),MONTH($B$1),18))=MONTH($B$1),DATE(YEAR($B$1),MONTH($B$1),18),"") | T3: =IF(MONTH(DATE(YEAR($B$1),MONTH($B$1),19))=MONTH($B$1),DATE(YEAR($B$1),MONTH($B$1),19),"") | U3: =IF(MONTH(DATE(YEAR($B$1),MONTH($B$1),20))=MONTH($B$1),DATE(YEAR($B$1),MONTH($B$1),20),"") | V3: =IF(MONTH(DATE(YEAR($B$1),MONTH($B$1),21))=MONTH($B$1),DATE(YEAR($B$1),MONTH($B$1),21),"") | W3: =IF(MONTH(DATE(YEAR($B$1),MONTH($B$1),22))=MONTH($B$1),DATE(YEAR($B$1),MONTH($B$1),22),"") | X3: =IF(MONTH(DATE(YEAR($B$1),MONTH($B$1),23))=MONTH($B$1),DATE(YEAR($B$1),MONTH($B$1),23),"") | Y3: =IF(MONTH(DATE(YEAR($B$1),MONTH($B$1),24))=MONTH($B$1),DATE(YEAR($B$1),MONTH($B$1),24),"") | Z3: =IF(MONTH(DATE(YEAR($B$1),MONTH($B$1),25))=MONTH($B$1),DATE(YEAR($B$1),MONTH($B$1),25),"") | AA3: =IF(MONTH(DATE(YEAR($B$1),MONTH($B$1),26))=MONTH($B$1),DATE(YEAR($B$1),MONTH($B$1),26),"") | AB3: =IF(MONTH(DATE(YEAR($B$1),MONTH($B$1),27))=MONTH($B$1),DATE(YEAR($B$1),MONTH($B$1),27),"") | AC3: =IF(MONTH(DATE(YEAR($B$1),MONTH($B$1),28))=MONTH($B$1),DATE(YEAR($B$1),MONTH($B$1),28),"") | AD3: =IF(MONTH(DATE(YEAR($B$1),MONTH($B$1),29))=MONTH($B$1),DATE(YEAR($B$1),MONTH($B$1),29),"") | AE3: =IF(MONTH(DATE(YEAR($B$1),MONTH($B$1),30))=MONTH($B$1),DATE(YEAR($B$1),MONTH($B$1),30),"") | AF3: =IF(MONTH(DATE(YEAR($B$1),MONTH($B$1),31))=MONTH($B$1),DATE(YEAR($B$1),MONTH($B$1),31),"")
A4: ='Einheiten'!A2 | B4: =IF(B$3="","",IF(COUNTIFS('Buchungen'!$A$2:$A$201,$A4,'Buchungen'!$C$2:$C$201,"<"&B$3+1,'Buchungen'!$D$2:$D$201,">"&B$3)>0,"●","")) | C4: =IF(C$3="","",IF(COUNTIFS('Buchungen'!$A$2:$A$201,$A4,'Buchungen'!$C$2:$C$201,"<"&C$3+1,'Buchungen'!$D$2:$D$201,">"&C$3)>0,"●","")) | D4: =IF(D$3="","",IF(COUNTIFS('Buchungen'!$A$2:$A$201,$A4,'Buchungen'!$C$2:$C$201,"<"&D$3+1,'Buchungen'!$D$2:$D$201,">"&D$3)>0,"●","")) | E4: =IF(E$3="","",IF(COUNTIFS('Buchungen'!$A$2:$A$201,$A4,'Buchungen'!$C$2:$C$201,"<"&E$3+1,'Buchungen'!$D$2:$D$201,">"&E$3)>0,"●","")) | F4: =IF(F$3="","",IF(COUNTIFS('Buchungen'!$A$2:$A$201,$A4,'Buchungen'!$C$2:$C$201,"<"&F$3+1,'Buchungen'!$D$2:$D$201,">"&F$3)>0,"●","")) | G4: =IF(G$3="","",IF(COUNTIFS('Buchungen'!$A$2:$A$201,$A4,'Buchungen'!$C$2:$C$201,"<"&G$3+1,'Buchungen'!$D$2:$D$201,">"&G$3)>0,"●","")) | H4: =IF(H$3="","",IF(COUNTIFS('Buchungen'!$A$2:$A$201,$A4,'Buchungen'!$C$2:$C$201,"<"&H$3+1,'Buchungen'!$D$2:$D$201,">"&H$3)>0,"●","")) | I4: =IF(I$3="","",IF(COUNTIFS('Buchungen'!$A$2:$A$201,$A4,'Buchungen'!$C$2:$C$201,"<"&I$3+1,'Buchungen'!$D$2:$D$201,">"&I$3)>0,"●","")) | ... AF4: =IF(AF$3="","",IF(COUNTIFS('Buchungen'!$A$2:$A$201,$A4,'Buchungen'!$C$2:$C$201,"<"&AF$3+1,'Buchungen'!$D$2:$D$201,">"&AF$3)>0,"●",""))
A5: ='Einheiten'!A3 | B5: =IF(B$3="","",IF(COUNTIFS('Buchungen'!$A$2:$A$201,$A5,'Buchungen'!$C$2:$C$201,"<"&B$3+1,'Buchungen'!$D$2:$D$201,">"&B$3)>0,"●","")) | C5: =IF(C$3="","",IF(COUNTIFS('Buchungen'!$A$2:$A$201,$A5,'Buchungen'!$C$2:$C$201,"<"&C$3+1,'Buchungen'!$D$2:$D$201,">"&C$3)>0,"●","")) | D5: =IF(D$3="","",IF(COUNTIFS('Buchungen'!$A$2:$A$201,$A5,'Buchungen'!$C$2:$C$201,"<"&D$3+1,'Buchungen'!$D$2:$D$201,">"&D$3)>0,"●","")) | E5: =IF(E$3="","",IF(COUNTIFS('Buchungen'!$A$2:$A$201,$A5,'Buchungen'!$C$2:$C$201,"<"&E$3+1,'Buchungen'!$D$2:$D$201,">"&E$3)>0,"●","")) | F5: =IF(F$3="","",IF(COUNTIFS('Buchungen'!$A$2:$A$201,$A5,'Buchungen'!$C$2:$C$201,"<"&F$3+1,'Buchungen'!$D$2:$D$201,">"&F$3)>0,"●","")) | G5: =IF(G$3="","",IF(COUNTIFS('Buchungen'!$A$2:$A$201,$A5,'Buchungen'!$C$2:$C$201,"<"&G$3+1,'Buchungen'!$D$2:$D$201,">"&G$3)>0,"●","")) | H5: =IF(H$3="","",IF(COUNTIFS('Buchungen'!$A$2:$A$201,$A5,'Buchungen'!$C$2:$C$201,"<"&H$3+1,'Buchungen'!$D$2:$D$201,">"&H$3)>0,"●","")) | I5: =IF(I$3="","",IF(COUNTIFS('Buchungen'!$A$2:$A$201,$A5,'Buchungen'!$C$2:$C$201,"<"&I$3+1,'Buchungen'!$D$2:$D$201,">"&I$3)>0,"●","")) | ... AF5: =IF(AF$3="","",IF(COUNTIFS('Buchungen'!$A$2:$A$201,$A5,'Buchungen'!$C$2:$C$201,"<"&AF$3+1,'Buchungen'!$D$2:$D$201,">"&AF$3)>0,"●",""))
A6: ='Einheiten'!A4 | B6: =IF(B$3="","",IF(COUNTIFS('Buchungen'!$A$2:$A$201,$A6,'Buchungen'!$C$2:$C$201,"<"&B$3+1,'Buchungen'!$D$2:$D$201,">"&B$3)>0,"●","")) | C6: =IF(C$3="","",IF(COUNTIFS('Buchungen'!$A$2:$A$201,$A6,'Buchungen'!$C$2:$C$201,"<"&C$3+1,'Buchungen'!$D$2:$D$201,">"&C$3)>0,"●","")) | D6: =IF(D$3="","",IF(COUNTIFS('Buchungen'!$A$2:$A$201,$A6,'Buchungen'!$C$2:$C$201,"<"&D$3+1,'Buchungen'!$D$2:$D$201,">"&D$3)>0,"●","")) | E6: =IF(E$3="","",IF(COUNTIFS('Buchungen'!$A$2:$A$201,$A6,'Buchungen'!$C$2:$C$201,"<"&E$3+1,'Buchungen'!$D$2:$D$201,">"&E$3)>0,"●","")) | F6: =IF(F$3="","",IF(COUNTIFS('Buchungen'!$A$2:$A$201,$A6,'Buchungen'!$C$2:$C$201,"<"&F$3+1,'Buchungen'!$D$2:$D$201,">"&F$3)>0,"●","")) | G6: =IF(G$3="","",IF(COUNTIFS('Buchungen'!$A$2:$A$201,$A6,'Buchungen'!$C$2:$C$201,"<"&G$3+1,'Buchungen'!$D$2:$D$201,">"&G$3)>0,"●","")) | H6: =IF(H$3="","",IF(COUNTIFS('Buchungen'!$A$2:$A$201,$A6,'Buchungen'!$C$2:$C$201,"<"&H$3+1,'Buchungen'!$D$2:$D$201,">"&H$3)>0,"●","")) | I6: =IF(I$3="","",IF(COUNTIFS('Buchungen'!$A$2:$A$201,$A6,'Buchungen'!$C$2:$C$201,"<"&I$3+1,'Buchungen'!$D$2:$D$201,">"&I$3)>0,"●","")) | ... AF6: =IF(AF$3="","",IF(COUNTIFS('Buchungen'!$A$2:$A$201,$A6,'Buchungen'!$C$2:$C$201,"<"&AF$3+1,'Buchungen'!$D$2:$D$201,">"&AF$3)>0,"●",""))
A7: ='Einheiten'!A5 | B7: =IF(B$3="","",IF(COUNTIFS('Buchungen'!$A$2:$A$201,$A7,'Buchungen'!$C$2:$C$201,"<"&B$3+1,'Buchungen'!$D$2:$D$201,">"&B$3)>0,"●","")) | C7: =IF(C$3="","",IF(COUNTIFS('Buchungen'!$A$2:$A$201,$A7,'Buchungen'!$C$2:$C$201,"<"&C$3+1,'Buchungen'!$D$2:$D$201,">"&C$3)>0,"●","")) | D7: =IF(D$3="","",IF(COUNTIFS('Buchungen'!$A$2:$A$201,$A7,'Buchungen'!$C$2:$C$201,"<"&D$3+1,'Buchungen'!$D$2:$D$201,">"&D$3)>0,"●","")) | E7: =IF(E$3="","",IF(COUNTIFS('Buchungen'!$A$2:$A$201,$A7,'Buchungen'!$C$2:$C$201,"<"&E$3+1,'Buchungen'!$D$2:$D$201,">"&E$3)>0,"●","")) | F7: =IF(F$3="","",IF(COUNTIFS('Buchungen'!$A$2:$A$201,$A7,'Buchungen'!$C$2:$C$201,"<"&F$3+1,'Buchungen'!$D$2:$D$201,">"&F$3)>0,"●","")) | G7: =IF(G$3="","",IF(COUNTIFS('Buchungen'!$A$2:$A$201,$A7,'Buchungen'!$C$2:$C$201,"<"&G$3+1,'Buchungen'!$D$2:$D$201,">"&G$3)>0,"●","")) | H7: =IF(H$3="","",IF(COUNTIFS('Buchungen'!$A$2:$A$201,$A7,'Buchungen'!$C$2:$C$201,"<"&H$3+1,'Buchungen'!$D$2:$D$201,">"&H$3)>0,"●","")) | I7: =IF(I$3="","",IF(COUNTIFS('Buchungen'!$A$2:$A$201,$A7,'Buchungen'!$C$2:$C$201,"<"&I$3+1,'Buchungen'!$D$2:$D$201,">"&I$3)>0,"●","")) | ... AF7: =IF(AF$3="","",IF(COUNTIFS('Buchungen'!$A$2:$A$201,$A7,'Buchungen'!$C$2:$C$201,"<"&AF$3+1,'Buchungen'!$D$2:$D$201,">"&AF$3)>0,"●",""))
A8: ='Einheiten'!A6 | B8: =IF(B$3="","",IF(COUNTIFS('Buchungen'!$A$2:$A$201,$A8,'Buchungen'!$C$2:$C$201,"<"&B$3+1,'Buchungen'!$D$2:$D$201,">"&B$3)>0,"●","")) | C8: =IF(C$3="","",IF(COUNTIFS('Buchungen'!$A$2:$A$201,$A8,'Buchungen'!$C$2:$C$201,"<"&C$3+1,'Buchungen'!$D$2:$D$201,">"&C$3)>0,"●","")) | D8: =IF(D$3="","",IF(COUNTIFS('Buchungen'!$A$2:$A$201,$A8,'Buchungen'!$C$2:$C$201,"<"&D$3+1,'Buchungen'!$D$2:$D$201,">"&D$3)>0,"●","")) | E8: =IF(E$3="","",IF(COUNTIFS('Buchungen'!$A$2:$A$201,$A8,'Buchungen'!$C$2:$C$201,"<"&E$3+1,'Buchungen'!$D$2:$D$201,">"&E$3)>0,"●","")) | F8: =IF(F$3="","",IF(COUNTIFS('Buchungen'!$A$2:$A$201,$A8,'Buchungen'!$C$2:$C$201,"<"&F$3+1,'Buchungen'!$D$2:$D$201,">"&F$3)>0,"●","")) | G8: =IF(G$3="","",IF(COUNTIFS('Buchungen'!$A$2:$A$201,$A8,'Buchungen'!$C$2:$C$201,"<"&G$3+1,'Buchungen'!$D$2:$D$201,">"&G$3)>0,"●","")) | H8: =IF(H$3="","",IF(COUNTIFS('Buchungen'!$A$2:$A$201,$A8,'Buchungen'!$C$2:$C$201,"<"&H$3+1,'Buchungen'!$D$2:$D$201,">"&H$3)>0,"●","")) | I8: =IF(I$3="","",IF(COUNTIFS('Buchungen'!$A$2:$A$201,$A8,'Buchungen'!$C$2:$C$201,"<"&I$3+1,'Buchungen'!$D$2:$D$201,">"&I$3)>0,"●","")) | ... AF8: =IF(AF$3="","",IF(COUNTIFS('Buchungen'!$A$2:$A$201,$A8,'Buchungen'!$C$2:$C$201,"<"&AF$3+1,'Buchungen'!$D$2:$D$201,">"&AF$3)>0,"●",""))
A9: ='Einheiten'!A7 | B9: =IF(B$3="","",IF(COUNTIFS('Buchungen'!$A$2:$A$201,$A9,'Buchungen'!$C$2:$C$201,"<"&B$3+1,'Buchungen'!$D$2:$D$201,">"&B$3)>0,"●","")) | C9: =IF(C$3="","",IF(COUNTIFS('Buchungen'!$A$2:$A$201,$A9,'Buchungen'!$C$2:$C$201,"<"&C$3+1,'Buchungen'!$D$2:$D$201,">"&C$3)>0,"●","")) | D9: =IF(D$3="","",IF(COUNTIFS('Buchungen'!$A$2:$A$201,$A9,'Buchungen'!$C$2:$C$201,"<"&D$3+1,'Buchungen'!$D$2:$D$201,">"&D$3)>0,"●","")) | E9: =IF(E$3="","",IF(COUNTIFS('Buchungen'!$A$2:$A$201,$A9,'Buchungen'!$C$2:$C$201,"<"&E$3+1,'Buchungen'!$D$2:$D$201,">"&E$3)>0,"●","")) | F9: =IF(F$3="","",IF(COUNTIFS('Buchungen'!$A$2:$A$201,$A9,'Buchungen'!$C$2:$C$201,"<"&F$3+1,'Buchungen'!$D$2:$D$201,">"&F$3)>0,"●","")) | G9: =IF(G$3="","",IF(COUNTIFS('Buchungen'!$A$2:$A$201,$A9,'Buchungen'!$C$2:$C$201,"<"&G$3+1,'Buchungen'!$D$2:$D$201,">"&G$3)>0,"●","")) | H9: =IF(H$3="","",IF(COUNTIFS('Buchungen'!$A$2:$A$201,$A9,'Buchungen'!$C$2:$C$201,"<"&H$3+1,'Buchungen'!$D$2:$D$201,">"&H$3)>0,"●","")) | I9: =IF(I$3="","",IF(COUNTIFS('Buchungen'!$A$2:$A$201,$A9,'Buchungen'!$C$2:$C$201,"<"&I$3+1,'Buchungen'!$D$2:$D$201,">"&I$3)>0,"●","")) | ... AF9: =IF(AF$3="","",IF(COUNTIFS('Buchungen'!$A$2:$A$201,$A9,'Buchungen'!$C$2:$C$201,"<"&AF$3+1,'Buchungen'!$D$2:$D$201,">"&AF$3)>0,"●",""))
A10: ='Einheiten'!A8 | B10: =IF(B$3="","",IF(COUNTIFS('Buchungen'!$A$2:$A$201,$A10,'Buchungen'!$C$2:$C$201,"<"&B$3+1,'Buchungen'!$D$2:$D$201,">"&B$3)>0,"●","")) | C10: =IF(C$3="","",IF(COUNTIFS('Buchungen'!$A$2:$A$201,$A10,'Buchungen'!$C$2:$C$201,"<"&C$3+1,'Buchungen'!$D$2:$D$201,">"&C$3)>0,"●","")) | D10: =IF(D$3="","",IF(COUNTIFS('Buchungen'!$A$2:$A$201,$A10,'Buchungen'!$C$2:$C$201,"<"&D$3+1,'Buchungen'!$D$2:$D$201,">"&D$3)>0,"●","")) | E10: =IF(E$3="","",IF(COUNTIFS('Buchungen'!$A$2:$A$201,$A10,'Buchungen'!$C$2:$C$201,"<"&E$3+1,'Buchungen'!$D$2:$D$201,">"&E$3)>0,"●","")) | F10: =IF(F$3="","",IF(COUNTIFS('Buchungen'!$A$2:$A$201,$A10,'Buchungen'!$C$2:$C$201,"<"&F$3+1,'Buchungen'!$D$2:$D$201,">"&F$3)>0,"●","")) | G10: =IF(G$3="","",IF(COUNTIFS('Buchungen'!$A$2:$A$201,$A10,'Buchungen'!$C$2:$C$201,"<"&G$3+1,'Buchungen'!$D$2:$D$201,">"&G$3)>0,"●","")) | H10: =IF(H$3="","",IF(COUNTIFS('Buchungen'!$A$2:$A$201,$A10,'Buchungen'!$C$2:$C$201,"<"&H$3+1,'Buchungen'!$D$2:$D$201,">"&H$3)>0,"●","")) | I10: =IF(I$3="","",IF(COUNTIFS('Buchungen'!$A$2:$A$201,$A10,'Buchungen'!$C$2:$C$201,"<"&I$3+1,'Buchungen'!$D$2:$D$201,">"&I$3)>0,"●","")) | ... AF10: =IF(AF$3="","",IF(COUNTIFS('Buchungen'!$A$2:$A$201,$A10,'Buchungen'!$C$2:$C$201,"<"&AF$3+1,'Buchungen'!$D$2:$D$201,">"&AF$3)>0,"●",""))
A11: ='Einheiten'!A9 | B11: =IF(B$3="","",IF(COUNTIFS('Buchungen'!$A$2:$A$201,$A11,'Buchungen'!$C$2:$C$201,"<"&B$3+1,'Buchungen'!$D$2:$D$201,">"&B$3)>0,"●","")) | C11: =IF(C$3="","",IF(COUNTIFS('Buchungen'!$A$2:$A$201,$A11,'Buchungen'!$C$2:$C$201,"<"&C$3+1,'Buchungen'!$D$2:$D$201,">"&C$3)>0,"●","")) | D11: =IF(D$3="","",IF(COUNTIFS('Buchungen'!$A$2:$A$201,$A11,'Buchungen'!$C$2:$C$201,"<"&D$3+1,'Buchungen'!$D$2:$D$201,">"&D$3)>0,"●","")) | E11: =IF(E$3="","",IF(COUNTIFS('Buchungen'!$A$2:$A$201,$A11,'Buchungen'!$C$2:$C$201,"<"&E$3+1,'Buchungen'!$D$2:$D$201,">"&E$3)>0,"●","")) | F11: =IF(F$3="","",IF(COUNTIFS('Buchungen'!$A$2:$A$201,$A11,'Buchungen'!$C$2:$C$201,"<"&F$3+1,'Buchungen'!$D$2:$D$201,">"&F$3)>0,"●","")) | G11: =IF(G$3="","",IF(COUNTIFS('Buchungen'!$A$2:$A$201,$A11,'Buchungen'!$C$2:$C$201,"<"&G$3+1,'Buchungen'!$D$2:$D$201,">"&G$3)>0,"●","")) | H11: =IF(H$3="","",IF(COUNTIFS('Buchungen'!$A$2:$A$201,$A11,'Buchungen'!$C$2:$C$201,"<"&H$3+1,'Buchungen'!$D$2:$D$201,">"&H$3)>0,"●","")) | I11: =IF(I$3="","",IF(COUNTIFS('Buchungen'!$A$2:$A$201,$A11,'Buchungen'!$C$2:$C$201,"<"&I$3+1,'Buchungen'!$D$2:$D$201,">"&I$3)>0,"●","")) | ... AF11: =IF(AF$3="","",IF(COUNTIFS('Buchungen'!$A$2:$A$201,$A11,'Buchungen'!$C$2:$C$201,"<"&AF$3+1,'Buchungen'!$D$2:$D$201,">"&AF$3)>0,"●",""))
A12: ='Einheiten'!A10 | B12: =IF(B$3="","",IF(COUNTIFS('Buchungen'!$A$2:$A$201,$A12,'Buchungen'!$C$2:$C$201,"<"&B$3+1,'Buchungen'!$D$2:$D$201,">"&B$3)>0,"●","")) | C12: =IF(C$3="","",IF(COUNTIFS('Buchungen'!$A$2:$A$201,$A12,'Buchungen'!$C$2:$C$201,"<"&C$3+1,'Buchungen'!$D$2:$D$201,">"&C$3)>0,"●","")) | D12: =IF(D$3="","",IF(COUNTIFS('Buchungen'!$A$2:$A$201,$A12,'Buchungen'!$C$2:$C$201,"<"&D$3+1,'Buchungen'!$D$2:$D$201,">"&D$3)>0,"●","")) | E12: =IF(E$3="","",IF(COUNTIFS('Buchungen'!$A$2:$A$201,$A12,'Buchungen'!$C$2:$C$201,"<"&E$3+1,'Buchungen'!$D$2:$D$201,">"&E$3)>0,"●","")) | F12: =IF(F$3="","",IF(COUNTIFS('Buchungen'!$A$2:$A$201,$A12,'Buchungen'!$C$2:$C$201,"<"&F$3+1,'Buchungen'!$D$2:$D$201,">"&F$3)>0,"●","")) | G12: =IF(G$3="","",IF(COUNTIFS('Buchungen'!$A$2:$A$201,$A12,'Buchungen'!$C$2:$C$201,"<"&G$3+1,'Buchungen'!$D$2:$D$201,">"&G$3)>0,"●","")) | H12: =IF(H$3="","",IF(COUNTIFS('Buchungen'!$A$2:$A$201,$A12,'Buchungen'!$C$2:$C$201,"<"&H$3+1,'Buchungen'!$D$2:$D$201,">"&H$3)>0,"●","")) | I12: =IF(I$3="","",IF(COUNTIFS('Buchungen'!$A$2:$A$201,$A12,'Buchungen'!$C$2:$C$201,"<"&I$3+1,'Buchungen'!$D$2:$D$201,">"&I$3)>0,"●","")) | ... AF12: =IF(AF$3="","",IF(COUNTIFS('Buchungen'!$A$2:$A$201,$A12,'Buchungen'!$C$2:$C$201,"<"&AF$3+1,'Buchungen'!$D$2:$D$201,">"&AF$3)>0,"●",""))
A13: ='Einheiten'!A11 | B13: =IF(B$3="","",IF(COUNTIFS('Buchungen'!$A$2:$A$201,$A13,'Buchungen'!$C$2:$C$201,"<"&B$3+1,'Buchungen'!$D$2:$D$201,">"&B$3)>0,"●","")) | C13: =IF(C$3="","",IF(COUNTIFS('Buchungen'!$A$2:$A$201,$A13,'Buchungen'!$C$2:$C$201,"<"&C$3+1,'Buchungen'!$D$2:$D$201,">"&C$3)>0,"●","")) | D13: =IF(D$3="","",IF(COUNTIFS('Buchungen'!$A$2:$A$201,$A13,'Buchungen'!$C$2:$C$201,"<"&D$3+1,'Buchungen'!$D$2:$D$201,">"&D$3)>0,"●","")) | E13: =IF(E$3="","",IF(COUNTIFS('Buchungen'!$A$2:$A$201,$A13,'Buchungen'!$C$2:$C$201,"<"&E$3+1,'Buchungen'!$D$2:$D$201,">"&E$3)>0,"●","")) | F13: =IF(F$3="","",IF(COUNTIFS('Buchungen'!$A$2:$A$201,$A13,'Buchungen'!$C$2:$C$201,"<"&F$3+1,'Buchungen'!$D$2:$D$201,">"&F$3)>0,"●","")) | G13: =IF(G$3="","",IF(COUNTIFS('Buchungen'!$A$2:$A$201,$A13,'Buchungen'!$C$2:$C$201,"<"&G$3+1,'Buchungen'!$D$2:$D$201,">"&G$3)>0,"●","")) | H13: =IF(H$3="","",IF(COUNTIFS('Buchungen'!$A$2:$A$201,$A13,'Buchungen'!$C$2:$C$201,"<"&H$3+1,'Buchungen'!$D$2:$D$201,">"&H$3)>0,"●","")) | I13: =IF(I$3="","",IF(COUNTIFS('Buchungen'!$A$2:$A$201,$A13,'Buchungen'!$C$2:$C$201,"<"&I$3+1,'Buchungen'!$D$2:$D$201,">"&I$3)>0,"●","")) | ... AF13: =IF(AF$3="","",IF(COUNTIFS('Buchungen'!$A$2:$A$201,$A13,'Buchungen'!$C$2:$C$201,"<"&AF$3+1,'Buchungen'!$D$2:$D$201,">"&AF$3)>0,"●",""))
A14: ='Einheiten'!A12 | B14: =IF(B$3="","",IF(COUNTIFS('Buchungen'!$A$2:$A$201,$A14,'Buchungen'!$C$2:$C$201,"<"&B$3+1,'Buchungen'!$D$2:$D$201,">"&B$3)>0,"●","")) | C14: =IF(C$3="","",IF(COUNTIFS('Buchungen'!$A$2:$A$201,$A14,'Buchungen'!$C$2:$C$201,"<"&C$3+1,'Buchungen'!$D$2:$D$201,">"&C$3)>0,"●","")) | D14: =IF(D$3="","",IF(COUNTIFS('Buchungen'!$A$2:$A$201,$A14,'Buchungen'!$C$2:$C$201,"<"&D$3+1,'Buchungen'!$D$2:$D$201,">"&D$3)>0,"●","")) | E14: =IF(E$3="","",IF(COUNTIFS('Buchungen'!$A$2:$A$201,$A14,'Buchungen'!$C$2:$C$201,"<"&E$3+1,'Buchungen'!$D$2:$D$201,">"&E$3)>0,"●","")) | F14: =IF(F$3="","",IF(COUNTIFS('Buchungen'!$A$2:$A$201,$A14,'Buchungen'!$C$2:$C$201,"<"&F$3+1,'Buchungen'!$D$2:$D$201,">"&F$3)>0,"●","")) | G14: =IF(G$3="","",IF(COUNTIFS('Buchungen'!$A$2:$A$201,$A14,'Buchungen'!$C$2:$C$201,"<"&G$3+1,'Buchungen'!$D$2:$D$201,">"&G$3)>0,"●","")) | H14: =IF(H$3="","",IF(COUNTIFS('Buchungen'!$A$2:$A$201,$A14,'Buchungen'!$C$2:$C$201,"<"&H$3+1,'Buchungen'!$D$2:$D$201,">"&H$3)>0,"●","")) | I14: =IF(I$3="","",IF(COUNTIFS('Buchungen'!$A$2:$A$201,$A14,'Buchungen'!$C$2:$C$201,"<"&I$3+1,'Buchungen'!$D$2:$D$201,">"&I$3)>0,"●","")) | ... AF14: =IF(AF$3="","",IF(COUNTIFS('Buchungen'!$A$2:$A$201,$A14,'Buchungen'!$C$2:$C$201,"<"&AF$3+1,'Buchungen'!$D$2:$D$201,">"&AF$3)>0,"●",""))
A15: ='Einheiten'!A13 | B15: =IF(B$3="","",IF(COUNTIFS('Buchungen'!$A$2:$A$201,$A15,'Buchungen'!$C$2:$C$201,"<"&B$3+1,'Buchungen'!$D$2:$D$201,">"&B$3)>0,"●","")) | C15: =IF(C$3="","",IF(COUNTIFS('Buchungen'!$A$2:$A$201,$A15,'Buchungen'!$C$2:$C$201,"<"&C$3+1,'Buchungen'!$D$2:$D$201,">"&C$3)>0,"●","")) | D15: =IF(D$3="","",IF(COUNTIFS('Buchungen'!$A$2:$A$201,$A15,'Buchungen'!$C$2:$C$201,"<"&D$3+1,'Buchungen'!$D$2:$D$201,">"&D$3)>0,"●","")) | E15: =IF(E$3="","",IF(COUNTIFS('Buchungen'!$A$2:$A$201,$A15,'Buchungen'!$C$2:$C$201,"<"&E$3+1,'Buchungen'!$D$2:$D$201,">"&E$3)>0,"●","")) | F15: =IF(F$3="","",IF(COUNTIFS('Buchungen'!$A$2:$A$201,$A15,'Buchungen'!$C$2:$C$201,"<"&F$3+1,'Buchungen'!$D$2:$D$201,">"&F$3)>0,"●","")) | G15: =IF(G$3="","",IF(COUNTIFS('Buchungen'!$A$2:$A$201,$A15,'Buchungen'!$C$2:$C$201,"<"&G$3+1,'Buchungen'!$D$2:$D$201,">"&G$3)>0,"●","")) | H15: =IF(H$3="","",IF(COUNTIFS('Buchungen'!$A$2:$A$201,$A15,'Buchungen'!$C$2:$C$201,"<"&H$3+1,'Buchungen'!$D$2:$D$201,">"&H$3)>0,"●","")) | I15: =IF(I$3="","",IF(COUNTIFS('Buchungen'!$A$2:$A$201,$A15,'Buchungen'!$C$2:$C$201,"<"&I$3+1,'Buchungen'!$D$2:$D$201,">"&I$3)>0,"●","")) | ... AF15: =IF(AF$3="","",IF(COUNTIFS('Buchungen'!$A$2:$A$201,$A15,'Buchungen'!$C$2:$C$201,"<"&AF$3+1,'Buchungen'!$D$2:$D$201,">"&AF$3)>0,"●",""))
... A23: ='Einheiten'!A21 | B23: =IF(B$3="","",IF(COUNTIFS('Buchungen'!$A$2:$A$201,$A23,'Buchungen'!$C$2:$C$201,"<"&B$3+1,'Buchungen'!$D$2:$D$201,">"&B$3)>0,"●","")) | C23: =IF(C$3="","",IF(COUNTIFS('Buchungen'!$A$2:$A$201,$A23,'Buchungen'!$C$2:$C$201,"<"&C$3+1,'Buchungen'!$D$2:$D$201,">"&C$3)>0,"●","")) | D23: =IF(D$3="","",IF(COUNTIFS('Buchungen'!$A$2:$A$201,$A23,'Buchungen'!$C$2:$C$201,"<"&D$3+1,'Buchungen'!$D$2:$D$201,">"&D$3)>0,"●","")) | E23: =IF(E$3="","",IF(COUNTIFS('Buchungen'!$A$2:$A$201,$A23,'Buchungen'!$C$2:$C$201,"<"&E$3+1,'Buchungen'!$D$2:$D$201,">"&E$3)>0,"●","")) | F23: =IF(F$3="","",IF(COUNTIFS('Buchungen'!$A$2:$A$201,$A23,'Buchungen'!$C$2:$C$201,"<"&F$3+1,'Buchungen'!$D$2:$D$201,">"&F$3)>0,"●","")) | G23: =IF(G$3="","",IF(COUNTIFS('Buchungen'!$A$2:$A$201,$A23,'Buchungen'!$C$2:$C$201,"<"&G$3+1,'Buchungen'!$D$2:$D$201,">"&G$3)>0,"●","")) | H23: =IF(H$3="","",IF(COUNTIFS('Buchungen'!$A$2:$A$201,$A23,'Buchungen'!$C$2:$C$201,"<"&H$3+1,'Buchungen'!$D$2:$D$201,">"&H$3)>0,"●","")) | I23: =IF(I$3="","",IF(COUNTIFS('Buchungen'!$A$2:$A$201,$A23,'Buchungen'!$C$2:$C$201,"<"&I$3+1,'Buchungen'!$D$2:$D$201,">"&I$3)>0,"●","")) | ... AF23: =IF(AF$3="","",IF(COUNTIFS('Buchungen'!$A$2:$A$201,$A23,'Buchungen'!$C$2:$C$201,"<"&AF$3+1,'Buchungen'!$D$2:$D$201,">"&AF$3)>0,"●",""))

Sheet Monatsübersicht
A1: Gewählter Monat | B1: ='Planung'!B1
A3: Verfügbare Nächte | B3: =COUNTA('Einheiten'!A2:A21)*DAY(DATE(YEAR(B1),MONTH(B1)+1,0))
A4: Verkaufte Nächte | B4: =SUM('Buchungen'!N2:N201)
A5: Auslastung | B5: =IF(B3=0,0,B4/B3)
A6: Zugeordneter Bruttoumsatz | B6: =SUM('Buchungen'!O2:O201)
A7: ADR | B7: =IF(B4=0,0,B6/B4)
A8: RevPAR | B8: =IF(B3=0,0,B6/B3)
A9: Zugeordnete Provisionen | B9: =SUM('Buchungen'!P2:P201)
A10: Netto nach Provisionen | B10: =B6-B9

Sheet Anleitung
A1: Kostenlose Buchungsvorlage von MAXORI
A3: Kostenlose Buchungsvorlage von MAXORI | B3: Tragen Sie zuerst Ihre Einheiten ein, dann die Buchungen. Formelspalten berechnen Nächte, Provisionen, offene Beträge und Überschneidungswarnungen.
A4: Monatsplanung | B4: Ändern Sie den gewählten Monat in Planung!B1. Das Raster und die Monatsübersicht werden für diesen Monat neu berechnet.
A5: Überschneidungswarnung | B5: Überschneiden sich zwei Buchungen auf derselben Einheit, zeigt das Blatt Buchungen ÜBERSCHNEIDUNG an.
A6: Grenzen | B6: Diese Tabelle gleicht keine Buchungsportale ab. Für den Wechsel zu MAXORI Booking Planner speichern Sie das Blatt Buchungen als CSV und nutzen „CSV importieren“: Buchungen werden importiert, Anzahlungen und Zahlungen nicht.
